BEGIN:VCALENDAR
VERSION:2.0
PRODID:SchoolNow
CALSCALE:GREGORIAN
BEGIN:VEVENT
UID:dcf4b7f8-5cde-11f0-8d37-0a58a9feac02
DTSTAMP:20250709T172412Z
SUMMARY:Kindergarten Parent Coffee Talk
URL;VALUE=URI:https://www.materdeicatholic.com/calendar/8399451/kindergarte
 n-coffee-talk
DTSTART:20250924T123000Z
DTEND:20250924T133000Z
END:VEVENT
END:VCALENDAR
