BEGIN:VCALENDAR
VERSION:2.0
PRODID:SchoolNow
CALSCALE:GREGORIAN
BEGIN:VEVENT
UID:82c90838-5cde-11f0-be02-0273f81fc779
DTSTAMP:20250709T160519Z
SUMMARY:Picture Day - PreK thru Gr. 8
URL;VALUE=URI:https://www.materdeicatholic.com/calendar/8399449/picture-day
 -prek-thru-gr-8
DTSTART;VALUE=DATE:20250915
DTEND;VALUE=DATE:20250916
END:VEVENT
END:VCALENDAR
