BEGIN:VCALENDAR
VERSION:2.0
PRODID:SchoolNow
CALSCALE:GREGORIAN
BEGIN:VEVENT
UID:31fd2380-5cde-11f0-96f8-02685cdb2011
DTSTAMP:20250709T160335Z
SUMMARY:Home & School Food Day
URL;VALUE=URI:https://www.materdeicatholic.com/calendar/8399448/home-and-sc
 hool-food-day
DTSTART;VALUE=DATE:20250912
DTEND;VALUE=DATE:20250913
END:VEVENT
END:VCALENDAR
