BEGIN:VCALENDAR
VERSION:2.0
PRODID:SchoolNow
CALSCALE:GREGORIAN
BEGIN:VEVENT
UID:21201496-5cde-11f0-9c77-0273f81fc779
DTSTAMP:20250709T160235Z
SUMMARY:Back to School Night - Gr. 1-8 (Parents Only)
URL;VALUE=URI:https://www.materdeicatholic.com/calendar/8399447/back-to-sch
 ool-night-gr-1-8-parents-only
DTSTART:20250909T223000Z
DTEND:20250910T000000Z
END:VEVENT
END:VCALENDAR
