BEGIN:VCALENDAR
VERSION:2.0
PRODID:SchoolNow
CALSCALE:GREGORIAN
BEGIN:VEVENT
UID:c75cdd90-5cdd-11f0-9c31-0a58a9feac02
DTSTAMP:20250709T160005Z
SUMMARY:Opening Mass - Birthday of the Blessed Mother
LOCATION:St. Stanislaus Church
URL;VALUE=URI:https://www.materdeicatholic.com/calendar/8399446/opening-mas
 s-birthday-of-the-blessed-mother
DTSTART:20250908T150000Z
DTEND:20250908T160000Z
END:VEVENT
END:VCALENDAR
