BEGIN:VCALENDAR
VERSION:2.0
PRODID:SchoolNow
CALSCALE:GREGORIAN
BEGIN:VEVENT
UID:16e9a138-5cdc-11f0-a552-0afffb6250df
DTSTAMP:20250709T155330Z
SUMMARY:H&S Uniform Exchange
URL;VALUE=URI:https://www.materdeicatholic.com/calendar/8399445/h-s-uniform
 -exchange
DTSTART:20250805T220000Z
DTEND:20250805T230000Z
ATTACH;FILENAME=Uniform Exchange Aug 5 .pdf;FMTTYPE=application/pdf:https:/
 /campussuite-storage.s3.amazonaws.com/prod/1558557/ecb9f00c-697c-11e8-a56f
 -0a296832838c/2979883/73209654-5cd8-11f0-bbe6-0a58a9feac02/file/Uniform Ex
 change Aug 5 .pdf
END:VEVENT
END:VCALENDAR
