BEGIN:VCALENDAR
VERSION:2.0
PRODID:SchoolNow
CALSCALE:GREGORIAN
BEGIN:VEVENT
UID:c90117d6-5cda-11f0-b3dd-0a58a9feac02
DTSTAMP:20250709T153839Z
SUMMARY:Opening Day of School for PreK 3 and PreK4
URL;VALUE=URI:https://www.materdeicatholic.com/calendar/8399444/opening-day
 -of-school-for-prek-3-and-prek4
DTSTART;VALUE=DATE:20250905
DTEND;VALUE=DATE:20250906
END:VEVENT
END:VCALENDAR
