BEGIN:VCALENDAR
VERSION:2.0
PRODID:SchoolNow
CALSCALE:GREGORIAN
BEGIN:VEVENT
UID:8bfbdca4-5cda-11f0-85aa-0a58a9feac02
DTSTAMP:20250709T153656Z
SUMMARY:Opening Day of School for K - Gr. 8
URL;VALUE=URI:https://www.materdeicatholic.com/calendar/8399443/opening-day
 -of-school-for-k-gr-8
DTSTART;VALUE=DATE:20250904
DTEND;VALUE=DATE:20250905
END:VEVENT
END:VCALENDAR
