BEGIN:VCALENDAR
VERSION:2.0
PRODID:SchoolNow
CALSCALE:GREGORIAN
BEGIN:VEVENT
UID:4f0ffc80-5cda-11f0-a6fa-0ed8963db997
DTSTAMP:20250709T153514Z
SUMMARY:Back to School Night - PreK 3\, PreK 4\, & Kindergarten
URL;VALUE=URI:https://www.materdeicatholic.com/calendar/8399442/back-to-sch
 ool-night-prek-3-prek-4-kindergarten
DTSTART:20250903T223000Z
DTEND:20250903T234500Z
END:VEVENT
END:VCALENDAR
