BEGIN:VCALENDAR
VERSION:2.0
PRODID:SchoolNow
CALSCALE:GREGORIAN
BEGIN:VEVENT
UID:fc31a6bc-5cd9-11f0-80df-0a58a9feac02
DTSTAMP:20250709T153255Z
SUMMARY:Open House (All families welcome)
URL;VALUE=URI:https://www.materdeicatholic.com/calendar/8399441/open-house-
 all-families-welcome
DTSTART:20250903T170000Z
DTEND:20250903T183000Z
END:VEVENT
END:VCALENDAR
