BEGIN:VCALENDAR
VERSION:2.0
PRODID:SchoolNow
CALSCALE:GREGORIAN
BEGIN:VEVENT
UID:e34a68be-5cd9-11f0-a702-0a58a9feac02
DTSTAMP:20250709T153213Z
SUMMARY:Open House (All families welcome)
URL;VALUE=URI:https://www.materdeicatholic.com/calendar/8399440/open-house-
 all-families-welcome
DTSTART:20250903T130000Z
DTEND:20250903T143000Z
END:VEVENT
END:VCALENDAR
