BEGIN:VCALENDAR
VERSION:2.0
PRODID:SchoolNow
CALSCALE:GREGORIAN
BEGIN:VEVENT
UID:b062888c-5cd9-11f0-a2ef-0affe40e2d29
DTSTAMP:20250709T153048Z
SUMMARY:Faculty Organizational Day
URL;VALUE=URI:https://www.materdeicatholic.com/calendar/8399439/faculty-org
 anizational-day
DTSTART;VALUE=DATE:20250902
DTEND;VALUE=DATE:20250903
END:VEVENT
END:VCALENDAR
