BEGIN:VCALENDAR
VERSION:2.0
PRODID:SchoolNow
CALSCALE:GREGORIAN
BEGIN:VEVENT
UID:322162ae-5cd9-11f0-9363-0e5cca9c67d5
DTSTAMP:20250709T152716Z
SUMMARY:PreK 4 Popsicle Party
URL;VALUE=URI:https://www.materdeicatholic.com/calendar/8399438/prek-4-pops
 icle-party
DTSTART:20250807T143000Z
DTEND:20250807T151500Z
END:VEVENT
END:VCALENDAR
