BEGIN:VCALENDAR
VERSION:2.0
PRODID:SchoolNow
CALSCALE:GREGORIAN
BEGIN:VEVENT
UID:115673c0-5cd9-11f0-9660-02685cdb2011
DTSTAMP:20250709T152621Z
SUMMARY:PreK 3 Popsicle Party
URL;VALUE=URI:https://www.materdeicatholic.com/calendar/8399437/prek-3-pops
 icle-party
DTSTART:20250807T130000Z
DTEND:20250807T134500Z
END:VEVENT
END:VCALENDAR
