BEGIN:VCALENDAR
VERSION:2.0
PRODID:SchoolNow
CALSCALE:GREGORIAN
BEGIN:VEVENT
UID:f439513c-5cd7-11f0-b59d-0a58a9feac02
DTSTAMP:20250709T151823Z
SUMMARY:PreK 4 Popsicle Party
URL;VALUE=URI:https://www.materdeicatholic.com/calendar/8399435/prek-4-pops
 icle-party
DTSTART:20250722T143000Z
DTEND:20250722T151500Z
END:VEVENT
END:VCALENDAR
