BEGIN:VCALENDAR
VERSION:2.0
PRODID:SchoolNow
CALSCALE:GREGORIAN
BEGIN:VEVENT
UID:de0b9230-5cd7-11f0-bf31-025d54e86bf1
DTSTAMP:20250709T151746Z
SUMMARY:PreK 3 Popsicle Party
URL;VALUE=URI:https://www.materdeicatholic.com/calendar/8399434/prek-3-pops
 icle-party
DTSTART:20250722T130000Z
DTEND:20250722T134500Z
END:VEVENT
END:VCALENDAR
