BEGIN:VCALENDAR
VERSION:2.0
PRODID:SchoolNow
CALSCALE:GREGORIAN
BEGIN:VEVENT
UID:0046fc22-fb85-11ef-b611-0a58a9feac02
DTSTAMP:20250829T151251Z
SUMMARY:Main Freeze Dine and Donate
URL;VALUE=URI:https://www.materdeicatholic.com/calendar/7626207/main-freeze
 -dine-and-donate
DTSTART:20250906T170000Z
DTEND:20250908T010000Z
ATTACH;FILENAME=mater_dei_dine_donate.jpeg;FMTTYPE=image/jpeg:https://campu
 ssuite-storage.s3.amazonaws.com/prod/1558557/ecb9f00c-697c-11e8-a56f-0a296
 832838c/3001259/9ad4ec42-84ea-11f0-8e87-0a58a9feac02/file/mater_dei_dine_d
 onate.jpeg
END:VEVENT
END:VCALENDAR
