BEGIN:VCALENDAR
VERSION:2.0
PRODID:SchoolNow
CALSCALE:GREGORIAN
BEGIN:VEVENT
UID:f0a24d3a-fb84-11ef-a941-0e57fe951413
DTSTAMP:20250709T145440Z
SUMMARY:Main Freeze Dine and Donate
URL;VALUE=URI:https://www.materdeicatholic.com/calendar/7626206/main-freeze
 -dine-and-donate
DTSTART;VALUE=DATE:20250726
DTEND;VALUE=DATE:20250727
ATTACH;FILENAME=Main Freeze - July.pdf;FMTTYPE=application/pdf:https://camp
 ussuite-storage.s3.amazonaws.com/prod/1558557/ecb9f00c-697c-11e8-a56f-0a29
 6832838c/2979855/a0e42fa0-5cd4-11f0-a0af-0a58a9feac02/file/Main Freeze - J
 uly.pdf
END:VEVENT
END:VCALENDAR
