BEGIN:VCALENDAR
VERSION:2.0
PRODID:SchoolNow
CALSCALE:GREGORIAN
BEGIN:VEVENT
UID:e75a20be-7933-11ef-9d1e-0a58a9feac02
DTSTAMP:20240922T224210Z
SUMMARY:Youth Ministry - PB&J Sandwich Making
LOCATION:Mater Dei cafeteria
URL;VALUE=URI:https://www.materdeicatholic.com/calendar/6667017/youth-minis
 try-pb-j-sandwich-making
DTSTART:20240930T193000Z
DTEND:20240930T210000Z
END:VEVENT
END:VCALENDAR
