BEGIN:VCALENDAR
VERSION:2.0
PRODID:SchoolNow
CALSCALE:GREGORIAN
BEGIN:VEVENT
UID:7370dc10-73bb-11ef-8004-0ea252e1d553
DTSTAMP:20240915T233720Z
SUMMARY:Youth Ministry - Manna on Main
URL;VALUE=URI:https://www.materdeicatholic.com/calendar/6611991/youth-minis
 try-manna-on-main
DTSTART:20240915T193000Z
DTEND:20240915T221500Z
END:VEVENT
END:VCALENDAR
