BEGIN:VCALENDAR
VERSION:2.0
PRODID:SchoolNow
CALSCALE:GREGORIAN
BEGIN:VEVENT
UID:c8b1026e-73ba-11ef-8c6a-0afff3f4b85f
DTSTAMP:20240915T233233Z
SUMMARY:Youth Ministry - Casserole and Cookie Baking
URL;VALUE=URI:https://www.materdeicatholic.com/calendar/6611972/youth-minis
 try-casserole-and-cookie-baking
DTSTART:20240925T193000Z
DTEND:20240925T220000Z
END:VEVENT
END:VCALENDAR
