BEGIN:VCALENDAR
VERSION:2.0
PRODID:SchoolNow
CALSCALE:GREGORIAN
BEGIN:VEVENT
UID:a996e5f6-73ba-11ef-bb5b-0afff68976e5
DTSTAMP:20240915T233141Z
SUMMARY:Youth Ministry - Freddy Hill Farm
URL;VALUE=URI:https://www.materdeicatholic.com/calendar/6611971/youth-minis
 try-freddy-hill-farm
DTSTART:20240918T200000Z
DTEND:20240918T220000Z
END:VEVENT
END:VCALENDAR
