BEGIN:VCALENDAR
VERSION:2.0
PRODID:SchoolNow
CALSCALE:GREGORIAN
BEGIN:VEVENT
UID:3939b300-4503-11ef-89fd-0a58a9feac02
DTSTAMP:20240926T162734Z
SUMMARY:H&S Assoc. MD Golf Outing
URL;VALUE=URI:https://www.materdeicatholic.com/calendar/6277278/h-s-assoc-m
 d-golf-outing
DTSTART;VALUE=DATE:20240927
DTEND;VALUE=DATE:20240928
END:VEVENT
END:VCALENDAR
