BEGIN:VCALENDAR
VERSION:2.0
PRODID:SchoolNow
CALSCALE:GREGORIAN
BEGIN:VEVENT
UID:11623a5a-4503-11ef-8b30-0a58a9feac02
DTSTAMP:20240718T124135Z
SUMMARY:Installation Mass for NJHS and Student Council Officers
LOCATION:St. Stanislaus Church
URL;VALUE=URI:https://www.materdeicatholic.com/calendar/6277277/installatio
 n-mass-for-njhs-and-student-council-officers
DTSTART:20240926T173000Z
DTEND:20240926T183000Z
END:VEVENT
END:VCALENDAR
