BEGIN:VCALENDAR
VERSION:2.0
PRODID:SchoolNow
CALSCALE:GREGORIAN
BEGIN:VEVENT
UID:cfba81f2-4502-11ef-b4d2-020f6be15a9d
DTSTAMP:20240718T123944Z
SUMMARY:Kindergarten Parent Coffee Talk
URL;VALUE=URI:https://www.materdeicatholic.com/calendar/6277276/kindergarte
 n-parent-coffee-talk
DTSTART:20240924T130000Z
DTEND:20240924T140000Z
END:VEVENT
END:VCALENDAR
