BEGIN:VCALENDAR
VERSION:2.0
PRODID:SchoolNow
CALSCALE:GREGORIAN
BEGIN:VEVENT
UID:650ae31a-4502-11ef-8e3d-0a58a9feac02
DTSTAMP:20240718T123645Z
SUMMARY:Opening Mass
LOCATION:St. Stanislaus Church
URL;VALUE=URI:https://www.materdeicatholic.com/calendar/6277274/opening-mas
 s
DTSTART:20240910T150000Z
DTEND:20240910T160000Z
END:VEVENT
END:VCALENDAR
