BEGIN:VCALENDAR
VERSION:2.0
PRODID:SchoolNow
CALSCALE:GREGORIAN
BEGIN:VEVENT
UID:48677f16-4502-11ef-9064-0a58a9feac02
DTSTAMP:20240718T123557Z
SUMMARY:Back to School Night - Gr. 1-8 (Parents Only)
URL;VALUE=URI:https://www.materdeicatholic.com/calendar/6277273/back-to-sch
 ool-night-gr-1-8-parents-only
DTSTART:20240910T223000Z
DTEND:20240911T000000Z
END:VEVENT
END:VCALENDAR
