BEGIN:VCALENDAR
VERSION:2.0
PRODID:SchoolNow
CALSCALE:GREGORIAN
BEGIN:VEVENT
UID:ef7ab9f4-4501-11ef-97e7-0e5bca4324e1
DTSTAMP:20240718T123437Z
SUMMARY:Picture Day - PreK thru Gr. 8
URL;VALUE=URI:https://www.materdeicatholic.com/calendar/6277272/picture-day
 -prek-thru-gr-8
DTSTART;VALUE=DATE:20240909
DTEND;VALUE=DATE:20240910
END:VEVENT
END:VCALENDAR
