BEGIN:VCALENDAR
VERSION:2.0
PRODID:SchoolNow
CALSCALE:GREGORIAN
BEGIN:VEVENT
UID:b3d8cdc8-4501-11ef-a37a-0a58a9feac02
DTSTAMP:20240718T123213Z
SUMMARY:Opening Day of School for PreK 3 and PreK4
URL;VALUE=URI:https://www.materdeicatholic.com/calendar/6277271/opening-day
 -of-school-for-prek-3-and-prek4
DTSTART;VALUE=DATE:20240906
DTEND;VALUE=DATE:20240907
END:VEVENT
END:VCALENDAR
