BEGIN:VCALENDAR
VERSION:2.0
PRODID:SchoolNow
CALSCALE:GREGORIAN
BEGIN:VEVENT
UID:64858c52-4501-11ef-b51e-0a58a9feac02
DTSTAMP:20240718T122935Z
SUMMARY:Opening Day of School for K - Gr. 8
URL;VALUE=URI:https://www.materdeicatholic.com/calendar/6277270/opening-day
 -of-school-for-k-gr-8
DTSTART;VALUE=DATE:20240905
DTEND;VALUE=DATE:20240906
END:VEVENT
END:VCALENDAR
