BEGIN:VCALENDAR
VERSION:2.0
PRODID:SchoolNow
CALSCALE:GREGORIAN
BEGIN:VEVENT
UID:21e856c8-4500-11ef-a666-0a58a9feac02
DTSTAMP:20240718T122034Z
SUMMARY:Back to School Night - PreK 3\, PreK 4\, & Kindergarten
URL;VALUE=URI:https://www.materdeicatholic.com/calendar/6277269/back-to-sch
 ool-night-prek-3-prek-4-kindergarten
DTSTART:20240904T223000Z
DTEND:20240904T233000Z
END:VEVENT
END:VCALENDAR
