BEGIN:VCALENDAR
VERSION:2.0
PRODID:SchoolNow
CALSCALE:GREGORIAN
BEGIN:VEVENT
UID:cd45775e-44ff-11ef-94f0-0a58a9feac02
DTSTAMP:20240718T121812Z
SUMMARY:Open House (All Families Welcome)
URL;VALUE=URI:https://www.materdeicatholic.com/calendar/6277268/open-house-
 all-families-welcome
DTSTART:20240904T170000Z
DTEND:20240904T183000Z
END:VEVENT
END:VCALENDAR
