BEGIN:VCALENDAR
VERSION:2.0
PRODID:SchoolNow
CALSCALE:GREGORIAN
BEGIN:VEVENT
UID:ba89fedc-44ff-11ef-a6cc-0a58a9feac02
DTSTAMP:20240718T121740Z
SUMMARY:Open House (All Families Welcome)
URL;VALUE=URI:https://www.materdeicatholic.com/calendar/6277267/open-house-
 all-families-welcome
DTSTART:20240904T130000Z
DTEND:20240904T143000Z
END:VEVENT
END:VCALENDAR
