BEGIN:VCALENDAR
VERSION:2.0
PRODID:SchoolNow
CALSCALE:GREGORIAN
BEGIN:VEVENT
UID:9e6a5e04-44ff-11ef-b495-0affd5794717
DTSTAMP:20240718T121653Z
SUMMARY:Faculty Organizational Day
URL;VALUE=URI:https://www.materdeicatholic.com/calendar/6277266/faculty-org
 anizational-day
DTSTART;VALUE=DATE:20240903
DTEND;VALUE=DATE:20240904
END:VEVENT
END:VCALENDAR
