BEGIN:VCALENDAR
VERSION:2.0
PRODID:SchoolNow
CALSCALE:GREGORIAN
BEGIN:VEVENT
UID:4fa1bf1a-44ff-11ef-afd6-0e5bca4324e1
DTSTAMP:20240718T121441Z
SUMMARY:H&S Uniform Exchange - All Families
URL;VALUE=URI:https://www.materdeicatholic.com/calendar/6277264/h-s-uniform
 -exchange-all-families
DTSTART:20240801T220000Z
DTEND:20240801T230000Z
END:VEVENT
END:VCALENDAR
