BEGIN:VCALENDAR
VERSION:2.0
PRODID:SchoolNow
CALSCALE:GREGORIAN
BEGIN:VEVENT
UID:1e0d764c-44ff-11ef-a420-028d8f183b07
DTSTAMP:20240718T121354Z
SUMMARY:H&S Uniform Exchange - New Families
URL;VALUE=URI:https://www.materdeicatholic.com/calendar/6277263/home-school
 -uniform-exchange-new-families
DTSTART:20240801T210000Z
DTEND:20240801T230000Z
END:VEVENT
END:VCALENDAR
