BEGIN:VCALENDAR
VERSION:2.0
PRODID:SchoolNow
CALSCALE:GREGORIAN
BEGIN:VEVENT
UID:32bf0ad2-032e-11ef-b68a-0a58a9feac02
DTSTAMP:20240425T180402Z
SUMMARY:Main Freeze Dine and Donate
URL;VALUE=URI:https://www.materdeicatholic.com/calendar/5856790/main-freeze
 -dine-and-donate
DTSTART:20240907T170000Z
DTEND:20240908T010000Z
ATTACH;FILENAME=;FMTTYPE=application/octet-stream:
END:VEVENT
END:VCALENDAR
