BEGIN:VCALENDAR
VERSION:2.0
PRODID:SchoolNow
CALSCALE:GREGORIAN
BEGIN:VEVENT
UID:fdd20eb4-db52-11ec-9364-02a677f22663
DTSTAMP:20220524T111643Z
SUMMARY:Palermo's Dine and Donate
URL;VALUE=URI:https://www.materdeicatholic.com/calendar/3204750/palermos-di
 ne-and-donate
DTSTART;VALUE=DATE:20220613
DTEND;VALUE=DATE:20220614
END:VEVENT
END:VCALENDAR
