BEGIN:VCALENDAR
VERSION:2.0
PRODID:SchoolNow
CALSCALE:GREGORIAN
BEGIN:VEVENT
UID:fa567b2c-db51-11ec-85c1-0a750e130247
DTSTAMP:20220524T110928Z
SUMMARY:Alumni Induction for Grade 8
URL;VALUE=URI:https://www.materdeicatholic.com/calendar/3204749/alumni-indu
 ction-for-grade-8
DTSTART;VALUE=DATE:20220601
DTEND;VALUE=DATE:20220602
END:VEVENT
END:VCALENDAR
