BEGIN:VCALENDAR
VERSION:2.0
PRODID:SchoolNow
CALSCALE:GREGORIAN
BEGIN:VEVENT
UID:ceae775a-d768-11ec-b448-0a913ea01f55
DTSTAMP:20220519T114248Z
SUMMARY:Parent Help Needed
URL;VALUE=URI:https://www.materdeicatholic.com/calendar/3201722/parent-help
 -needed
DTSTART;VALUE=DATE:20220607
DTEND;VALUE=DATE:20220611
END:VEVENT
END:VCALENDAR
