BEGIN:VCALENDAR
VERSION:2.0
PRODID:SchoolNow
CALSCALE:GREGORIAN
BEGIN:VEVENT
UID:eff83ea8-d765-11ec-8c63-02b3bc80fcd3
DTSTAMP:20220519T112303Z
SUMMARY:Moving Day
URL;VALUE=URI:https://www.materdeicatholic.com/calendar/3201721/moving-day
DTSTART:20220613T160000Z
DTEND:20220614T000000Z
END:VEVENT
END:VCALENDAR
