BEGIN:VCALENDAR
VERSION:2.0
PRODID:SchoolNow
CALSCALE:GREGORIAN
BEGIN:VEVENT
UID:68074980-d765-11ec-a11e-02b3bc80fcd3
DTSTAMP:20220519T111904Z
SUMMARY:Eighth Grade Retreat
LOCATION:St. Maria Goretti
URL;VALUE=URI:https://www.materdeicatholic.com/calendar/3201720/eighth-grad
 e-retreat
DTSTART;VALUE=DATE:20220610
DTEND;VALUE=DATE:20220611
END:VEVENT
END:VCALENDAR
