BEGIN:VCALENDAR
VERSION:2.0
PRODID:SchoolNow
CALSCALE:GREGORIAN
BEGIN:VEVENT
UID:820257f6-d6b3-11ec-902c-02bbf6498783
DTSTAMP:20220518T140542Z
SUMMARY:No School for Students in Lansdale
URL;VALUE=URI:https://www.materdeicatholic.com/calendar/3201296/no-school-f
 or-students-in-lansdale
DTSTART;VALUE=DATE:20220606
DTEND;VALUE=DATE:20220607
END:VEVENT
END:VCALENDAR
