BEGIN:VCALENDAR
VERSION:2.0
PRODID:SchoolNow
CALSCALE:GREGORIAN
BEGIN:VEVENT
UID:1251245a-d050-11ec-bc6b-0ef6d6d30229
DTSTAMP:20221229T145718Z
SUMMARY:Main Freeze Rain Date
URL;VALUE=URI:https://www.materdeicatholic.com/calendar/3194140/main-freeze
 -rain-date
DTSTART:20220513T190000Z
DTEND:20220514T010000Z
END:VEVENT
END:VCALENDAR
