BEGIN:VCALENDAR
VERSION:2.0
PRODID:SchoolNow
CALSCALE:GREGORIAN
BEGIN:VEVENT
UID:e98d98c0-c4ae-11ec-9a7e-0e0512715875
DTSTAMP:20221229T145643Z
SUMMARY:Main Freeze Dining Night Out
URL;VALUE=URI:https://www.materdeicatholic.com/calendar/3180878/main-freeze
 -dining-night-out
DTSTART:20220506T190000Z
DTEND:20220507T010000Z
END:VEVENT
END:VCALENDAR
