BEGIN:VCALENDAR
VERSION:2.0
PRODID:SchoolNow
CALSCALE:GREGORIAN
BEGIN:VEVENT
UID:337ff942-bb58-11ec-b97e-0eba982f93a1
DTSTAMP:20220413T183323Z
SUMMARY:Dine and Donate - Vinny's Pizzarama
URL;VALUE=URI:https://www.materdeicatholic.com/calendar/3171314/dine-and-do
 nate-vinnys-pizzarama
DTSTART:20220419T140000Z
DTEND:20220420T000000Z
END:VEVENT
END:VCALENDAR
