BEGIN:VCALENDAR
VERSION:2.0
PRODID:SchoolNow
CALSCALE:GREGORIAN
BEGIN:VEVENT
UID:3113d03e-a965-11ec-86a8-0e76057a5d75
DTSTAMP:20220321T222102Z
SUMMARY:Palermo's Dine and Donate
URL;VALUE=URI:https://www.materdeicatholic.com/calendar/3139247/palermos-di
 ne-and-donate
DTSTART:20220404T200000Z
DTEND:20220405T020000Z
END:VEVENT
END:VCALENDAR
