BEGIN:VCALENDAR
VERSION:2.0
PRODID:SchoolNow
CALSCALE:GREGORIAN
BEGIN:VEVENT
UID:6d6cbbfc-a6c4-11ec-81f4-0adeec31b46d
DTSTAMP:20220519T111709Z
SUMMARY:Spring Concert 2022
LOCATION:St. Stanislaus Church
URL;VALUE=URI:https://www.materdeicatholic.com/calendar/3136608/spring-conc
 ert
DTSTART:20220608T230000Z
DTEND:20220609T000000Z
END:VEVENT
END:VCALENDAR
