BEGIN:VCALENDAR
VERSION:2.0
PRODID:SchoolNow
CALSCALE:GREGORIAN
BEGIN:VEVENT
UID:a5daaacc-a6c3-11ec-b2fc-0adeec31b46d
DTSTAMP:20220401T140555Z
SUMMARY:Passion Play: Apr 12\, 2022\, 7:00 PM - 8:00 PM
URL;VALUE=URI:https://www.materdeicatholic.com/calendar/3136607/passion-pla
 y
DTSTART:20220412T230000Z
DTEND:20220413T000000Z
END:VEVENT
END:VCALENDAR
