BEGIN:VCALENDAR
VERSION:2.0
PRODID:SchoolNow
CALSCALE:GREGORIAN
BEGIN:VEVENT
UID:98ce9384-a6c3-11ec-adb0-0adeec31b46d
DTSTAMP:20220401T140535Z
SUMMARY:Passion Play: Apr 12\, 2022\, 1:30 PM - 2:30 PM
URL;VALUE=URI:https://www.materdeicatholic.com/calendar/3136606/passion-pla
 y
DTSTART:20220412T173000Z
DTEND:20220412T183000Z
END:VEVENT
END:VCALENDAR
